BEGIN:VCALENDAR
VERSION:2.0
PRODID:-//project/author//NONSGML v1.0//EN
CALSCALE:GREGORIAN
BEGIN:VEVENT
DTEND;TZID=Europe/Vienna:20090609T131500
UID:111
DTSTAMP;TZID=Europe/Vienna:20260424T132654
LOCATION:KLI for Evolution and Cognition Research\, Altenberg\, Austria
SUMMARY:Bio-Ontologies as Theories
DTSTART;TZID=Europe/Vienna:20090609T131500
END:VEVENT
END:VCALENDAR